BEGIN:VCALENDAR
VERSION:2.0
CALSCALE:GREGORIAN
PRODID:-//Diputació de Barcelona//DibaCMS//EN
BEGIN:VEVENT
UID:1659
DTSTAMP:20260424T130746
DTSTART:20251019T110000
DTEND:20251019T130000
SUMMARY:TALLER DE HALLOWEEN
LOCATION:
METHOD:PUBLISH
X-WR-CALNAME:tavertet@tavertet.cat
X-WR-TIMEZONE:Europe/Madrid
DESCRIPTION:
URI:https://www.tavertet.cat/actualitat/agenda/taller-de-halloween.html
CLASS:PUBLIC
END:VEVENT
END:VCALENDAR
