BEGIN:VCALENDAR
VERSION:2.0
CALSCALE:GREGORIAN
PRODID:-//Diputació de Barcelona//DibaCMS//EN
BEGIN:VEVENT
UID:1657
DTSTAMP:20260424T132012
DTSTART:20251026T120000
DTEND:20251026T130000
SUMMARY:Concert : Brunzit 
LOCATION:
METHOD:PUBLISH
X-WR-CALNAME:tavertet@tavertet.cat
X-WR-TIMEZONE:Europe/Madrid
DESCRIPTION:Concert-ball d'arrel tradicional de creació pròpia.

URI:https://www.tavertet.cat/actualitat/agenda/concert--brunzit-.html
CLASS:PUBLIC
END:VEVENT
END:VCALENDAR
