BEGIN:VCALENDAR
VERSION:2.0
CALSCALE:GREGORIAN
PRODID:-//Diputació de Barcelona//DibaCMS//EN
BEGIN:VEVENT
UID:1656
DTSTAMP:20260424T125907
DTSTART:20251026T110000
DTEND:20251026T130000
SUMMARY:Xerrada d'Arqueolgia
LOCATION:
METHOD:PUBLISH
X-WR-CALNAME:tavertet@tavertet.cat
X-WR-TIMEZONE:Europe/Madrid
DESCRIPTION:Arqueologia a Tavertet: paisatge i memòria al cor del Collsacabra. A càrrec de l'arqueòloga Anna Bach Gómez

URI:https://www.tavertet.cat/actualitat/agenda/xerrada-darqueolgia.html
CLASS:PUBLIC
END:VEVENT
END:VCALENDAR
