BEGIN:VCALENDAR
VERSION:2.0
CALSCALE:GREGORIAN
PRODID:-//Diputació de Barcelona//DibaCMS//EN
BEGIN:VEVENT
UID:1655
DTSTAMP:20260424T130522
DTSTART:20251026T100000
DTEND:20251026T140000
SUMMARY:Tiolina a la cinglera, Anigami
LOCATION:
METHOD:PUBLISH
X-WR-CALNAME:tavertet@tavertet.cat
X-WR-TIMEZONE:Europe/Madrid
DESCRIPTION:
URI:https://www.tavertet.cat/actualitat/agenda/tiolina-a-la-cinglera-anigami.html
CLASS:PUBLIC
END:VEVENT
END:VCALENDAR
