BEGIN:VCALENDAR
VERSION:2.0
CALSCALE:GREGORIAN
PRODID:-//Diputació de Barcelona//DibaCMS//EN
BEGIN:VEVENT
UID:1654
DTSTAMP:20260424T143227
DTSTART:20251026T100000
DTEND:20251026T180000
SUMMARY:Parades d'artesania 
LOCATION:
METHOD:PUBLISH
X-WR-CALNAME:tavertet@tavertet.cat
X-WR-TIMEZONE:Europe/Madrid
DESCRIPTION:
URI:https://www.tavertet.cat/actualitat/agenda/parades-dartesania-.html
CLASS:PUBLIC
END:VEVENT
END:VCALENDAR
