BEGIN:VCALENDAR
VERSION:2.0
CALSCALE:GREGORIAN
PRODID:-//Diputació de Barcelona//DibaCMS//EN
BEGIN:VEVENT
UID:1653
DTSTAMP:20260424T130258
DTSTART:20251026T100000
DTEND:20251026T120000
SUMMARY:Taller artesania en pell - NQUART
LOCATION:
METHOD:PUBLISH
X-WR-CALNAME:tavertet@tavertet.cat
X-WR-TIMEZONE:Europe/Madrid
DESCRIPTION:Cal inscripció prèvia. Places limitades

Inscripcions 938565079 de dilluns a divendres de 10:00-14:00

URI:https://www.tavertet.cat/actualitat/agenda/taller-artesania-en-pell-nquart.html
CLASS:PUBLIC
END:VEVENT
END:VCALENDAR
