BEGIN:VCALENDAR
VERSION:2.0
CALSCALE:GREGORIAN
PRODID:-//Diputació de Barcelona//DibaCMS//EN
BEGIN:VEVENT
UID:1652
DTSTAMP:20260424T130906
DTSTART:20251025T200000
DTEND:20251025T200000
SUMMARY:Cinema Cicle Gaudí  "Wolfang" història d'un nen pianista
LOCATION:
METHOD:PUBLISH
X-WR-CALNAME:tavertet@tavertet.cat
X-WR-TIMEZONE:Europe/Madrid
DESCRIPTION:
URI:https://www.tavertet.cat/actualitat/agenda/cinema-cicle-gaudi-wolfang-historia-dun-nen-pianista.html
CLASS:PUBLIC
END:VEVENT
END:VCALENDAR
