BEGIN:VCALENDAR
VERSION:2.0
CALSCALE:GREGORIAN
PRODID:-//Diputació de Barcelona//DibaCMS//EN
BEGIN:VEVENT
UID:1651
DTSTAMP:20260424T131704
DTSTART:20251025T180000
DTEND:20251025T200000
SUMMARY:Presentació : " El zoo de vidre", de Tennesse Willians
LOCATION:
METHOD:PUBLISH
X-WR-CALNAME:tavertet@tavertet.cat
X-WR-TIMEZONE:Europe/Madrid
DESCRIPTION:Editorial Adesiara. traducció Jordi Vilaró Berdusuan. Presentat per l'editor Jordi Raventós.

URI:https://www.tavertet.cat/actualitat/agenda/presentacio---el-zoo-de-vidre-de-tennesse-willians.html
CLASS:PUBLIC
END:VEVENT
END:VCALENDAR
