BEGIN:VCALENDAR
VERSION:2.0
CALSCALE:GREGORIAN
PRODID:-//Diputació de Barcelona//DibaCMS//EN
BEGIN:VEVENT
UID:1650
DTSTAMP:20260424T143141
DTSTART:20251025T160000
DTEND:20251025T180000
SUMMARY:Pel·licula "El crit de la Terra."
LOCATION:
METHOD:PUBLISH
X-WR-CALNAME:tavertet@tavertet.cat
X-WR-TIMEZONE:Europe/Madrid
DESCRIPTION:Pel·lícula dels anys 50 rodada a Tavertet.

URI:https://www.tavertet.cat/actualitat/agenda/pellicula-el-crit-de-la-terra.html
CLASS:PUBLIC
END:VEVENT
END:VCALENDAR
