BEGIN:VCALENDAR
VERSION:2.0
CALSCALE:GREGORIAN
PRODID:-//Diputació de Barcelona//DibaCMS//EN
BEGIN:VEVENT
UID:1649
DTSTAMP:20260424T142819
DTSTART:20251025T110000
DTEND:20251025T143000
SUMMARY:Tirolina a la Cinglera
LOCATION:
METHOD:PUBLISH
X-WR-CALNAME:tavertet@tavertet.cat
X-WR-TIMEZONE:Europe/Madrid
DESCRIPTION:
URI:https://www.tavertet.cat/actualitat/agenda/tirolina-a-la-cinglera.html
CLASS:PUBLIC
END:VEVENT
END:VCALENDAR
