BEGIN:VCALENDAR
VERSION:2.0
CALSCALE:GREGORIAN
PRODID:-//Diputació de Barcelona//DibaCMS//EN
BEGIN:VEVENT
UID:1648
DTSTAMP:20260424T130223
DTSTART:20251025T100000
DTEND:20251025T120000
SUMMARY:Taller de construcció de caixes-niu
LOCATION:
METHOD:PUBLISH
X-WR-CALNAME:tavertet@tavertet.cat
X-WR-TIMEZONE:Europe/Madrid
DESCRIPTION:
URI:https://www.tavertet.cat/actualitat/agenda/taller-de-construccio-de-caixes-niu.html
CLASS:PUBLIC
END:VEVENT
END:VCALENDAR
