BEGIN:VCALENDAR
VERSION:2.0
CALSCALE:GREGORIAN
PRODID:-//Diputació de Barcelona//DibaCMS//EN
BEGIN:VEVENT
UID:1647
DTSTAMP:20260424T144758
DTSTART:20251025T100000
DTEND:20251025T180000
SUMMARY:El Maria Canals porta cua a Tavertet 
LOCATION:
METHOD:PUBLISH
X-WR-CALNAME:tavertet@tavertet.cat
X-WR-TIMEZONE:Europe/Madrid
DESCRIPTION:Un piano de cua t'espera perquè el toquis, gentilesa del Concurs Maria Canals. Amb la participació d'alumnes de l'Escola de Música de Vic, el nen pianista Joel Bou i tothom que vulgui venir a tocar.

 

URI:https://www.tavertet.cat/actualitat/agenda/el-maria-canals-porta-cua-a-tavertet-.html
CLASS:PUBLIC
END:VEVENT
END:VCALENDAR
