BEGIN:VCALENDAR
VERSION:2.0
CALSCALE:GREGORIAN
PRODID:-//Diputació de Barcelona//DibaCMS//EN
BEGIN:VEVENT
UID:1646
DTSTAMP:20260424T131826
DTSTART:20251025T100000
DTEND:20251025T180000
SUMMARY:Parades d'artesania a la Plaça de l'Església 
LOCATION:
METHOD:PUBLISH
X-WR-CALNAME:tavertet@tavertet.cat
X-WR-TIMEZONE:Europe/Madrid
DESCRIPTION:
URI:https://www.tavertet.cat/actualitat/agenda/parades-dartesania-a-la-placa-de-lesglesia-.html
CLASS:PUBLIC
END:VEVENT
END:VCALENDAR
