BEGIN:VCALENDAR
VERSION:2.0
CALSCALE:GREGORIAN
PRODID:-//Diputació de Barcelona//DibaCMS//EN
BEGIN:VEVENT
UID:1645
DTSTAMP:20260424T131208
DTSTART:20251024T173000
DTEND:20251024T183000
SUMMARY:Hora del conte " L'avi feréstec" a càrrec de Lídia Clua
LOCATION:
METHOD:PUBLISH
X-WR-CALNAME:tavertet@tavertet.cat
X-WR-TIMEZONE:Europe/Madrid
DESCRIPTION:Públic infantil i familiar

URI:https://www.tavertet.cat/actualitat/agenda/hora-del-conte--lavi-ferestec-a-carrec-de-lidia-clua.html
CLASS:PUBLIC
END:VEVENT
END:VCALENDAR
