BEGIN:VCALENDAR
VERSION:2.0
CALSCALE:GREGORIAN
PRODID:-//Diputació de Barcelona//DibaCMS//EN
BEGIN:VEVENT
UID:1643
DTSTAMP:20260424T143259
DTSTART:20250927T200000
DTEND:20250927T230000
SUMMARY:CICLE GAUDÍ - LA FURIA
LOCATION:
METHOD:PUBLISH
X-WR-CALNAME:tavertet@tavertet.cat
X-WR-TIMEZONE:Europe/Madrid
DESCRIPTION:
URI:https://www.tavertet.cat/actualitat/agenda/cicle-gaudi-la-furia.html
CLASS:PUBLIC
END:VEVENT
END:VCALENDAR
