BEGIN:VCALENDAR
VERSION:2.0
CALSCALE:GREGORIAN
PRODID:-//Diputació de Barcelona//DibaCMS//EN
BEGIN:VEVENT
UID:1639
DTSTAMP:20260421T111728
DTSTART:20250918T180000
DTEND:20250918T220000
SUMMARY:CELEBRACIÓ DE LA CONVOCATÒRIA DEL PLE DE L’AJUNTAMENT DE TAVERTET
LOCATION:
METHOD:PUBLISH
X-WR-CALNAME:tavertet@tavertet.cat
X-WR-TIMEZONE:Europe/Madrid
DESCRIPTION:ANUNCI DE CELEBRACIÓ DE LA CONVOCATÒRIA DEL PLE DE L’AJUNTAMENT DE TAVERTET

URI:https://www.tavertet.cat/ajuntament/govern/agenda-politica/celebracio-de-la-convocatoria-del-ple-de-lajuntament-de-tavertet.html
CLASS:PUBLIC
END:VEVENT
END:VCALENDAR
