BEGIN:VCALENDAR
VERSION:2.0
CALSCALE:GREGORIAN
PRODID:-//Diputació de Barcelona//DibaCMS//EN
BEGIN:VEVENT
UID:1636
DTSTAMP:20260424T130537
DTSTART:20250803T103000
DTEND:20250803T120000
SUMMARY:TALLER DE PELL - TALLER ADULT FUNDA DE VENTALL
LOCATION:C/JAUME BALMES, 1  
METHOD:PUBLISH
X-WR-CALNAME:tavertet@tavertet.cat
X-WR-TIMEZONE:Europe/Madrid
DESCRIPTION:
URI:https://www.tavertet.cat/actualitat/agenda/taller-de-pell-taller-adult-funda-de-ventall.html
CLASS:PUBLIC
END:VEVENT
END:VCALENDAR
