BEGIN:VCALENDAR
VERSION:2.0
CALSCALE:GREGORIAN
PRODID:-//Diputació de Barcelona//DibaCMS//EN
BEGIN:VEVENT
UID:1635
DTSTAMP:20260422T121823
DTSTART:20250803T103000
DTEND:20250803T120000
SUMMARY:TALLER DE PELL - TALLER INFANTIL BOSSETA PER A PORTAR MONEDES O BALES DE VIDRE
LOCATION:C/JAUME BALMES, 1 
METHOD:PUBLISH
X-WR-CALNAME:tavertet@tavertet.cat
X-WR-TIMEZONE:Europe/Madrid
DESCRIPTION:
URI:https://www.tavertet.cat/actualitat/agenda/taller-de-pell-taller-infantil-bosseta-per-a-portar-monedes-o-bales-de-vidre.html
CLASS:PUBLIC
END:VEVENT
END:VCALENDAR
