BEGIN:VCALENDAR
VERSION:2.0
CALSCALE:GREGORIAN
PRODID:-//Diputació de Barcelona//DibaCMS//EN
BEGIN:VEVENT
UID:1634
DTSTAMP:20260422T104303
DTSTART:20250731T180000
DTEND:20250731T200000
SUMMARY:DECRET DE CONVOCATÒRIA DEL PLE  DE L’AJUNTAMENT DE TAVERTET 
LOCATION:
METHOD:PUBLISH
X-WR-CALNAME:tavertet@tavertet.cat
X-WR-TIMEZONE:Europe/Madrid
DESCRIPTION:https://meet.google.com/xqz-fnkc-kyj

URI:https://www.tavertet.cat/actualitat/agenda/decret-de-convocatoria-del-ple-de-lajuntament-de-tavertet-.html
CLASS:PUBLIC
END:VEVENT
END:VCALENDAR
