BEGIN:VCALENDAR
VERSION:2.0
CALSCALE:GREGORIAN
PRODID:-//Diputació de Barcelona//DibaCMS//EN
BEGIN:VEVENT
UID:1631
DTSTAMP:20260422T115036
DTSTART:20250725T170000
DTEND:20250725T180000
SUMMARY:CONTES ARRAN D'AIGUA A CÀRREC DE SUSAGNA NAVÓ
LOCATION:C/ Jaume Balmes, s/n 08511 Tavertet
METHOD:PUBLISH
X-WR-CALNAME:tavertet@tavertet.cat
X-WR-TIMEZONE:Europe/Madrid
DESCRIPTION:
URI:https://www.tavertet.cat/actualitat/agenda/contes-arran-daigua-a-carrec-de-susagna-navo.html
CLASS:PUBLIC
END:VEVENT
END:VCALENDAR
