BEGIN:VCALENDAR
VERSION:2.0
CALSCALE:GREGORIAN
PRODID:-//Diputació de Barcelona//DibaCMS//EN
BEGIN:VEVENT
UID:1630
DTSTAMP:20260422T104157
DTSTART:20250725T200000
DTEND:20250725T220000
SUMMARY:DUO DE VIOLONCELS - GEMMA DALMAU DOMINGO I JÚLIA ERRA EURAS 
LOCATION:
METHOD:PUBLISH
X-WR-CALNAME:tavertet@tavertet.cat
X-WR-TIMEZONE:Europe/Madrid
DESCRIPTION:
URI:https://www.tavertet.cat/actualitat/agenda/duo-de-violoncels-gemma-dalmau-domingo-i-julia-erra-euras-.html
CLASS:PUBLIC
END:VEVENT
END:VCALENDAR
