BEGIN:VCALENDAR
VERSION:2.0
CALSCALE:GREGORIAN
PRODID:-//Diputació de Barcelona//DibaCMS//EN
BEGIN:VEVENT
UID:1628
DTSTAMP:20260424T130955
DTSTART:20250809T220000
DTEND:20250809T235900
SUMMARY:CINEMA A LA FRESCA - OJOS NEGROS (1987) 
LOCATION:
METHOD:PUBLISH
X-WR-CALNAME:tavertet@tavertet.cat
X-WR-TIMEZONE:Europe/Madrid
DESCRIPTION:
URI:https://www.tavertet.cat/actualitat/agenda/cinema-a-la-fresca-ojos-negros-1987-.html
CLASS:PUBLIC
END:VEVENT
END:VCALENDAR
