BEGIN:VCALENDAR
VERSION:2.0
CALSCALE:GREGORIAN
PRODID:-//Diputació de Barcelona//DibaCMS//EN
BEGIN:VEVENT
UID:1626
DTSTAMP:20260422T120903
DTSTART:20250802T220000
DTEND:20250802T235900
SUMMARY:CINEMA A LA FRESCA-RUFUFÚ (1958) 
LOCATION:
METHOD:PUBLISH
X-WR-CALNAME:tavertet@tavertet.cat
X-WR-TIMEZONE:Europe/Madrid
DESCRIPTION:
URI:https://www.tavertet.cat/actualitat/agenda/cinema-a-la-fresca-rufufu-1958-.html
CLASS:PUBLIC
END:VEVENT
END:VCALENDAR
