BEGIN:VCALENDAR
VERSION:2.0
CALSCALE:GREGORIAN
PRODID:-//Diputació de Barcelona//DibaCMS//EN
BEGIN:VEVENT
UID:1622
DTSTAMP:20260424T130437
DTSTART:20250713T100000
DTEND:20250713T120000
SUMMARY:TALLER ARTESÀ - CABANA DE VÍMET
LOCATION:
METHOD:PUBLISH
X-WR-CALNAME:tavertet@tavertet.cat
X-WR-TIMEZONE:Europe/Madrid
DESCRIPTION:
URI:https://www.tavertet.cat/actualitat/agenda/taller-artesa-cabana-de-vimet.html
CLASS:PUBLIC
END:VEVENT
END:VCALENDAR
