BEGIN:VCALENDAR
VERSION:2.0
CALSCALE:GREGORIAN
PRODID:-//Diputació de Barcelona//DibaCMS//EN
BEGIN:VEVENT
UID:1621
DTSTAMP:20260422T102957
DTSTART:20250712T200000
DTEND:20250712T220000
SUMMARY:DUO DE VIOLONCELS A L'ESLGÉSIA DE SANT CRISTÒFOL DE TAVERTET- FESTIVITAT DE SANT CRISTÒFOL
LOCATION:
METHOD:PUBLISH
X-WR-CALNAME:tavertet@tavertet.cat
X-WR-TIMEZONE:Europe/Madrid
DESCRIPTION:
URI:https://www.tavertet.cat/actualitat/agenda/duo-de-violoncels-a-leslgesia-de-sant-cristofol-de-tavertet-festivitat-de-sant-cristofol.html
CLASS:PUBLIC
END:VEVENT
END:VCALENDAR
