BEGIN:VCALENDAR
VERSION:2.0
CALSCALE:GREGORIAN
PRODID:-//Diputació de Barcelona//DibaCMS//EN
BEGIN:VEVENT
UID:1619
DTSTAMP:20260422T115713
DTSTART:20250719T180000
DTEND:20250719T220000
SUMMARY:XVIII TROBADA GEGANTERA DE TAVERTET
LOCATION:
METHOD:PUBLISH
X-WR-CALNAME:tavertet@tavertet.cat
X-WR-TIMEZONE:Europe/Madrid
DESCRIPTION:
URI:https://www.tavertet.cat/actualitat/agenda/xviii-trobada-gegantera-de-tavertet.html
CLASS:PUBLIC
END:VEVENT
END:VCALENDAR
