BEGIN:VCALENDAR
VERSION:2.0
CALSCALE:GREGORIAN
PRODID:-//Diputació de Barcelona//DibaCMS//EN
BEGIN:VEVENT
UID:1398
DTSTAMP:20260420T091451
DTSTART:20181220T000000
DTEND:20181220T000000
SUMMARY:FESTA MUNDIAL DEL CINEMA CURT '18
LOCATION:SALA POLIVALENT DE L'AJUNTAMENT 
METHOD:PUBLISH
X-WR-CALNAME:tavertet@tavertet.cat
X-WR-TIMEZONE:Europe/Madrid
DESCRIPTION:
URI:https://www.tavertet.cat/actualitat/agenda/festa-mundial-del-cinema-curt-18.html
CLASS:PUBLIC
END:VEVENT
END:VCALENDAR
