BEGIN:VCALENDAR
VERSION:2.0
CALSCALE:GREGORIAN
PRODID:-//Diputació de Barcelona//DibaCMS//EN
BEGIN:VEVENT
UID:1392
DTSTAMP:20260420T104359
DTSTART:20180821T120000
DTEND:20180821T124500
SUMMARY:Aiguagim  a Tavertet
LOCATION:C/ Jaume Balmes, s/n 08511 Tavertet
METHOD:PUBLISH
X-WR-CALNAME:tavertet@tavertet.cat
X-WR-TIMEZONE:Europe/Madrid
DESCRIPTION:
URI:https://www.tavertet.cat/actualitat/agenda/aiguagim-a-tavertet.html
CLASS:PUBLIC
END:VEVENT
END:VCALENDAR
