BEGIN:VCALENDAR
VERSION:2.0
CALSCALE:GREGORIAN
PRODID:-//Diputació de Barcelona//DibaCMS//EN
BEGIN:VEVENT
UID:1385
DTSTAMP:20260422T103121
DTSTART:20180802T190000
DTEND:20180802T200000
SUMMARY:Ioga en família
LOCATION:Sala polivalent de Tavertet 
METHOD:PUBLISH
X-WR-CALNAME:tavertet@tavertet.cat
X-WR-TIMEZONE:Europe/Madrid
DESCRIPTION:Gaudirem d'un moment de relax en família, explorant diferents tècniques per poder fer a casa tots junts. Cada infant haurà d'assistir acompanyat d'un adult.

Cal portar coixí i manteta. si tens, una estora de ioga

URI:https://www.tavertet.cat/actualitat/agenda/1385-ioga-en-familia.html
CLASS:PUBLIC
END:VEVENT
END:VCALENDAR
