BEGIN:VCALENDAR
VERSION:2.0
CALSCALE:GREGORIAN
PRODID:-//Diputació de Barcelona//DibaCMS//EN
BEGIN:VEVENT
UID:1381
DTSTAMP:20260420T091511
DTSTART:20180721T180000
DTEND:20180722T020000
SUMMARY:XX aniversari gegants  Tavertet i trobada gegantera  
LOCATION:Carrer de Sant Corneli, 4 08511 Tavertet
METHOD:PUBLISH
X-WR-CALNAME:tavertet@tavertet.cat
X-WR-TIMEZONE:Europe/Madrid
DESCRIPTION:XXè aniversari dels gegants de Tavertet i XIII trobada gegantera

URI:https://www.tavertet.cat/actualitat/agenda/xx-aniversari-gegants-tavertet-i-trobada-gegantera-.html
CLASS:PUBLIC
END:VEVENT
END:VCALENDAR
