BEGIN:VCALENDAR
VERSION:2.0
CALSCALE:GREGORIAN
PRODID:-//Diputació de Barcelona//DibaCMS//EN
BEGIN:VEVENT
UID:1380
DTSTAMP:20260420T091410
DTSTART:20180728T220000
DTEND:20180804T235500
SUMMARY:2a. Mostra de cinema català a Tavertet
LOCATION:Davant l'Ajuntament. C/ Jaume Balmes, 1 
METHOD:PUBLISH
X-WR-CALNAME:tavertet@tavertet.cat
X-WR-TIMEZONE:Europe/Madrid
DESCRIPTION:Mostra de cinema català a Tavertet

URI:https://www.tavertet.cat/actualitat/agenda/2a-mostra-de-cinema-catala-a-tavertet.html
CLASS:PUBLIC
END:VEVENT
END:VCALENDAR
